BEGIN:VCALENDAR
VERSION:2.0
PRODID:Vozes da Terra
X-WR-CALNAME:Vozes da Terra
X-WR-TIMEZONE:Europe/Lisbon
X-PUBLISHED-TTL:P1W
BEGIN:VTIMEZONE
TZID:Europe/Lisbon
X-LIC-LOCATION:Europe/Lisbon
END:VTIMEZONE
BEGIN:VEVENT
UID:69e4dd257d3c0
DTSTART;VALUE=DATE:20260411
SEQUENCE:0
TRANSP:OPAQUE
DTEND;VALUE=DATE:20260412
SUMMARY:Vozes da Terra
CLASS:PUBLIC
DESCRIPTION:Tertúlia das Vivencias e festas da aldeia no Séc.XX
X-MICROSOFT-CDO-ALLDAYEVENT:TRUE
DTSTAMP:20260419T134821Z
END:VEVENT
END:VCALENDAR